BEGIN:VCALENDAR
VERSION:2.0
PRODID:-//First Steps Learning Centers - ECPv5.6.0//NONSGML v1.0//EN
CALSCALE:GREGORIAN
METHOD:PUBLISH
X-WR-CALNAME:First Steps Learning Centers
X-ORIGINAL-URL:https://www.firststepsbismarck.com
X-WR-CALDESC:Events for First Steps Learning Centers
BEGIN:VTIMEZONE
TZID:America/Chicago
BEGIN:DAYLIGHT
TZOFFSETFROM:-0600
TZOFFSETTO:-0500
TZNAME:CDT
DTSTART:20190310T080000
END:DAYLIGHT
BEGIN:STANDARD
TZOFFSETFROM:-0500
TZOFFSETTO:-0600
TZNAME:CST
DTSTART:20191103T070000
END:STANDARD
END:VTIMEZONE
BEGIN:VEVENT
DTSTART;TZID=America/Chicago:20190410T130000
DTEND;TZID=America/Chicago:20190410T133000
DTSTAMP:20260419T201105
CREATED:20180917T190702Z
LAST-MODIFIED:20180917T190702Z
UID:9000-1554901200-1554903000@www.firststepsbismarck.com
SUMMARY:Soccer - Both Centers
DESCRIPTION:We will be having soccer at the indoor league at the Sanford Power Center.  This program is taught by our own coaches who have a wonderful outline for the five week session posted at the day cares.  It details all the new skills we will learn. What an great program to run and play during the cold winter months.
URL:https://www.firststepsbismarck.com/event/8315-2019-04-10/
LOCATION:Sanford Power\, 3451 N. 14th St. Suite C\, Bismarck\, ND\, 58503\, United States
CATEGORIES:First Steps CENTRAL,First Steps EAST,Soccer
ATTACH;FMTTYPE=image/jpeg:https://www.firststepsbismarck.com/wp-content/uploads/2018/05/kids-soccer-tots-icon.jpg
ORGANIZER;CN="First%20Steps%20Bismarck":MAILTO:info@firststepsbismarck.com
END:VEVENT
END:VCALENDAR