BEGIN:VCALENDAR
VERSION:2.0
PRODID:-//First Steps Learning Centers - ECPv5.6.0//NONSGML v1.0//EN
CALSCALE:GREGORIAN
METHOD:PUBLISH
X-WR-CALNAME:First Steps Learning Centers
X-ORIGINAL-URL:https://www.firststepsbismarck.com
X-WR-CALDESC:Events for First Steps Learning Centers
BEGIN:VTIMEZONE
TZID:America/Chicago
BEGIN:DAYLIGHT
TZOFFSETFROM:-0600
TZOFFSETTO:-0500
TZNAME:CDT
DTSTART:20190310T080000
END:DAYLIGHT
BEGIN:STANDARD
TZOFFSETFROM:-0500
TZOFFSETTO:-0600
TZNAME:CST
DTSTART:20191103T070000
END:STANDARD
END:VTIMEZONE
BEGIN:VEVENT
DTSTART;TZID=America/Chicago:20190409T080000
DTEND;TZID=America/Chicago:20190409T170000
DTSTAMP:20260419T084108
CREATED:20190329T231646Z
LAST-MODIFIED:20190329T231646Z
UID:9063-1554796800-1554829200@www.firststepsbismarck.com
SUMMARY:April Lunch and Snack Menu
DESCRIPTION:April Lunch and Snack Menu
URL:https://www.firststepsbismarck.com/event/april-lunch-and-snack-menu-2-2019-04-09/
LOCATION:First Steps (Both Centers)\, Bismarck\, ND\, 58501\, United States
CATEGORIES:First Steps CENTRAL,First Steps EAST,Lunch and Snack Menu
ATTACH;FMTTYPE=image/jpeg:https://www.firststepsbismarck.com/wp-content/uploads/2014/01/700x395_Menu.jpg
ORGANIZER;CN="First%20Steps%20Bismarck":MAILTO:info@firststepsbismarck.com
END:VEVENT
END:VCALENDAR