BEGIN:VCALENDAR
VERSION:2.0
PRODID:-//First Steps Learning Centers - ECPv5.6.0//NONSGML v1.0//EN
CALSCALE:GREGORIAN
METHOD:PUBLISH
X-WR-CALNAME:First Steps Learning Centers
X-ORIGINAL-URL:https://www.firststepsbismarck.com
X-WR-CALDESC:Events for First Steps Learning Centers
BEGIN:VTIMEZONE
TZID:America/Chicago
BEGIN:DAYLIGHT
TZOFFSETFROM:-0600
TZOFFSETTO:-0500
TZNAME:CDT
DTSTART:20190310T080000
END:DAYLIGHT
BEGIN:STANDARD
TZOFFSETFROM:-0500
TZOFFSETTO:-0600
TZNAME:CST
DTSTART:20191103T070000
END:STANDARD
END:VTIMEZONE
BEGIN:VEVENT
DTSTART;TZID=America/Chicago:20190404T090000
DTEND;TZID=America/Chicago:20190404T110000
DTSTAMP:20260419T173453
CREATED:20180917T182142Z
LAST-MODIFIED:20180917T182142Z
UID:9080-1554368400-1554375600@www.firststepsbismarck.com
SUMMARY:Gymnastics - Both Centers
DESCRIPTION:Today is our turn for gymnastics session. Our Central location will go at 9:00 in the morning and the East location will go at 10:00. The classes meet every Thursday for nine weeks.
URL:https://www.firststepsbismarck.com/event/gymnastics-both-centers-56-2019-04-04/
LOCATION:Bismarck Gymnastics Academy\, 3200 North 10th Street\, Bismarck\, ND\, 58503\, United States
CATEGORIES:First Steps CENTRAL,First Steps EAST,Gymnastics
ATTACH;FMTTYPE=image/jpeg:https://www.firststepsbismarck.com/wp-content/uploads/2015/10/thK0DBUHYP.jpg
ORGANIZER;CN="First%20Steps%20Bismarck":MAILTO:info@firststepsbismarck.com
END:VEVENT
END:VCALENDAR