BEGIN:VCALENDAR
VERSION:2.0
PRODID:-//First Steps Learning Centers - ECPv5.6.0//NONSGML v1.0//EN
CALSCALE:GREGORIAN
METHOD:PUBLISH
X-WR-CALNAME:First Steps Learning Centers
X-ORIGINAL-URL:https://www.firststepsbismarck.com
X-WR-CALDESC:Events for First Steps Learning Centers
BEGIN:VTIMEZONE
TZID:America/Chicago
BEGIN:DAYLIGHT
TZOFFSETFROM:-0600
TZOFFSETTO:-0500
TZNAME:CDT
DTSTART:20190310T080000
END:DAYLIGHT
BEGIN:STANDARD
TZOFFSETFROM:-0500
TZOFFSETTO:-0600
TZNAME:CST
DTSTART:20191103T070000
END:STANDARD
END:VTIMEZONE
BEGIN:VEVENT
DTSTART;VALUE=DATE:20190503
DTEND;VALUE=DATE:20190504
DTSTAMP:20260425T111227
CREATED:20190429T145930Z
LAST-MODIFIED:20190429T145930Z
UID:9138-1556841600-1556927999@www.firststepsbismarck.com
SUMMARY:May Lunch and Snack Menu
DESCRIPTION:May Lunch and Snack Menu 
URL:https://www.firststepsbismarck.com/event/may-lunch-and-snack-menu-3-2019-05-03/
LOCATION:First Steps (Both Centers)\, Bismarck\, ND\, 58501\, United States
CATEGORIES:First Steps CENTRAL,First Steps EAST,Lunch and Snack Menu
ATTACH;FMTTYPE=image/png:https://www.firststepsbismarck.com/wp-content/uploads/2018/09/kidsMenuHeaderImage_fb.png
ORGANIZER;CN="First%20Steps%20Bismarck":MAILTO:info@firststepsbismarck.com
END:VEVENT
END:VCALENDAR