BEGIN:VCALENDAR
VERSION:2.0
PRODID:-//First Steps Learning Centers - ECPv5.6.0//NONSGML v1.0//EN
CALSCALE:GREGORIAN
METHOD:PUBLISH
X-WR-CALNAME:First Steps Learning Centers
X-ORIGINAL-URL:https://www.firststepsbismarck.com
X-WR-CALDESC:Events for First Steps Learning Centers
BEGIN:VTIMEZONE
TZID:America/Chicago
BEGIN:DAYLIGHT
TZOFFSETFROM:-0600
TZOFFSETTO:-0500
TZNAME:CDT
DTSTART:20190310T080000
END:DAYLIGHT
BEGIN:STANDARD
TZOFFSETFROM:-0500
TZOFFSETTO:-0600
TZNAME:CST
DTSTART:20191103T070000
END:STANDARD
END:VTIMEZONE
BEGIN:VEVENT
DTSTART;VALUE=DATE:20190412
DTEND;VALUE=DATE:20190413
DTSTAMP:20260422T072030
CREATED:20170418T184024Z
LAST-MODIFIED:20190404T191041Z
UID:4076-1555027200-1555113599@www.firststepsbismarck.com
SUMMARY:Pajama Day
DESCRIPTION:We get to wear pajamas ALL DAY!!  What fun!  (Remember to bring clothes for outside.)  We love Week of the Young Child. \nWe also get to enjoy one of our favorite movies. \n 
URL:https://www.firststepsbismarck.com/event/pajama-day-2/
LOCATION:First Steps (Both Centers)\, Bismarck\, ND\, 58501\, United States
CATEGORIES:First Steps CENTRAL,First Steps EAST,Just for Fun!
ATTACH;FMTTYPE=image/jpeg:https://www.firststepsbismarck.com/wp-content/uploads/2014/05/700x395_Pajamas.jpg
ORGANIZER;CN="First%20Steps%20Bismarck":MAILTO:info@firststepsbismarck.com
END:VEVENT
END:VCALENDAR