BEGIN:VCALENDAR
VERSION:2.0
PRODID:-//First Steps Learning Centers - ECPv5.6.0//NONSGML v1.0//EN
CALSCALE:GREGORIAN
METHOD:PUBLISH
X-WR-CALNAME:First Steps Learning Centers
X-ORIGINAL-URL:https://www.firststepsbismarck.com
X-WR-CALDESC:Events for First Steps Learning Centers
BEGIN:VTIMEZONE
TZID:America/Chicago
BEGIN:DAYLIGHT
TZOFFSETFROM:-0600
TZOFFSETTO:-0500
TZNAME:CDT
DTSTART:20190310T080000
END:DAYLIGHT
BEGIN:STANDARD
TZOFFSETFROM:-0500
TZOFFSETTO:-0600
TZNAME:CST
DTSTART:20191103T070000
END:STANDARD
END:VTIMEZONE
BEGIN:VEVENT
DTSTART;TZID=America/Chicago:20190412T183000
DTEND;TZID=America/Chicago:20190412T183000
DTSTAMP:20260422T124034
CREATED:20150705T215358Z
LAST-MODIFIED:20150705T215358Z
UID:4051-1555093800-1555093800@www.firststepsbismarck.com
SUMMARY:Parents Night Out--JAMMIE NIGHT!!!
DESCRIPTION:The kids enjoy bringing their supper\, coming in their pj’s\, playing and watching movies. We start at 6:30 pm and go until 12:30 am so parents can have a NIGHT OUT!  Children from both locations are welcome but Parent’s Night Out is held at our Central location.
URL:https://www.firststepsbismarck.com/event/parents-night-out-jammie-night-8-2017-07-14-2019-04-12/
LOCATION:First Steps Central\, 1824 N 11th Street\, Bismarck\, 58501\, United States
CATEGORIES:First Steps CENTRAL,First Steps EAST,Just for Fun!
ATTACH;FMTTYPE=image/jpeg:https://www.firststepsbismarck.com/wp-content/uploads/2014/05/700x395_Pajamas.jpg
ORGANIZER;CN="First%20Steps%20Bismarck":MAILTO:info@firststepsbismarck.com
END:VEVENT
END:VCALENDAR