BEGIN:VCALENDAR
VERSION:2.0
PRODID:-//First Steps Learning Centers - ECPv5.6.0//NONSGML v1.0//EN
CALSCALE:GREGORIAN
METHOD:PUBLISH
X-WR-CALNAME:First Steps Learning Centers
X-ORIGINAL-URL:https://www.firststepsbismarck.com
X-WR-CALDESC:Events for First Steps Learning Centers
BEGIN:VTIMEZONE
TZID:America/Chicago
BEGIN:DAYLIGHT
TZOFFSETFROM:-0600
TZOFFSETTO:-0500
TZNAME:CDT
DTSTART:20190310T080000
END:DAYLIGHT
BEGIN:STANDARD
TZOFFSETFROM:-0500
TZOFFSETTO:-0600
TZNAME:CST
DTSTART:20191103T070000
END:STANDARD
END:VTIMEZONE
BEGIN:VEVENT
DTSTART;TZID=America/Chicago:20190419T130000
DTEND;TZID=America/Chicago:20190419T153000
DTSTAMP:20260423T152250
CREATED:20190415T154135Z
LAST-MODIFIED:20190415T154135Z
UID:9124-1555678800-1555687800@www.firststepsbismarck.com
SUMMARY:School Age from both Centers to the Universal Playground
DESCRIPTION:The School Age from both the Central and East locations will go over to the Universal Playground this afternoon.  This park is wonderful for all ages.
URL:https://www.firststepsbismarck.com/event/school-age-from-both-centers-to-the-universal-playground/
LOCATION:Universal Playground\, 100 14th St NE\, Mandan\, 58554\, United States
CATEGORIES:Field Trip,First Steps CENTRAL,First Steps EAST,Just for Fun!
ATTACH;FMTTYPE=image/jpeg:https://www.firststepsbismarck.com/wp-content/uploads/2018/07/maxresdefault-1.jpg
ORGANIZER;CN="First%20Steps%20Bismarck":MAILTO:info@firststepsbismarck.com
END:VEVENT
END:VCALENDAR