BEGIN:VCALENDAR
VERSION:2.0
PRODID:-//First Steps Learning Centers - ECPv5.6.0//NONSGML v1.0//EN
CALSCALE:GREGORIAN
METHOD:PUBLISH
X-WR-CALNAME:First Steps Learning Centers
X-ORIGINAL-URL:https://www.firststepsbismarck.com
X-WR-CALDESC:Events for First Steps Learning Centers
BEGIN:VTIMEZONE
TZID:America/Chicago
BEGIN:DAYLIGHT
TZOFFSETFROM:-0600
TZOFFSETTO:-0500
TZNAME:CDT
DTSTART:20190310T080000
END:DAYLIGHT
BEGIN:STANDARD
TZOFFSETFROM:-0500
TZOFFSETTO:-0600
TZNAME:CST
DTSTART:20191103T070000
END:STANDARD
END:VTIMEZONE
BEGIN:VEVENT
DTSTART;TZID=America/Chicago:20190422T100000
DTEND;TZID=America/Chicago:20190422T110000
DTSTAMP:20260423T185912
CREATED:20180110T204915Z
LAST-MODIFIED:20180110T204915Z
UID:8327-1555927200-1555930800@www.firststepsbismarck.com
SUMMARY:Shannon's Group from Central visit the Nursing Home
DESCRIPTION:We are working with The Baptist Health Care Center on the “Adopt a Grandparent” program. The purpose of this program is to provide an opportunity to bridge the gap between generations and provide opportunities for residents to learn about current trends and students to learn about past trends.  There will be a scheduled activity for both the kids and residents to enjoy.  We will do this on the first Monday of every month.  What a wonderful program for everyone!
URL:https://www.firststepsbismarck.com/event/shannons-group-from-central-visit-the-nursing-home-2-2019-04-22/
LOCATION:Baptist Health Care Center\, 3400 Nebraska Drive\, Bismarck\, ND\, 58503\, United States
CATEGORIES:Educational,Field Trip,First Steps CENTRAL
ATTACH;FMTTYPE=image/jpeg:https://www.firststepsbismarck.com/wp-content/uploads/2017/02/016622-2__.jpg
ORGANIZER;CN="First%20Steps%20Central":MAILTO:patty@firststepsbismarck.com
END:VEVENT
END:VCALENDAR